BEGIN:VCALENDAR
VERSION:2.0
PRODID:-//Reconciling Ministries Network - ECPv6.15.20//NONSGML v1.0//EN
CALSCALE:GREGORIAN
METHOD:PUBLISH
X-ORIGINAL-URL:https://rmnetwork.org
X-WR-CALDESC:Events for Reconciling Ministries Network
REFRESH-INTERVAL;VALUE=DURATION:PT1H
X-Robots-Tag:noindex
X-PUBLISHED-TTL:PT1H
BEGIN:VTIMEZONE
TZID:America/New_York
BEGIN:DAYLIGHT
TZOFFSETFROM:-0500
TZOFFSETTO:-0400
TZNAME:EDT
DTSTART:20210314T070000
END:DAYLIGHT
BEGIN:STANDARD
TZOFFSETFROM:-0400
TZOFFSETTO:-0500
TZNAME:EST
DTSTART:20211107T060000
END:STANDARD
BEGIN:DAYLIGHT
TZOFFSETFROM:-0500
TZOFFSETTO:-0400
TZNAME:EDT
DTSTART:20220313T070000
END:DAYLIGHT
BEGIN:STANDARD
TZOFFSETFROM:-0400
TZOFFSETTO:-0500
TZNAME:EST
DTSTART:20221106T060000
END:STANDARD
BEGIN:DAYLIGHT
TZOFFSETFROM:-0500
TZOFFSETTO:-0400
TZNAME:EDT
DTSTART:20230312T070000
END:DAYLIGHT
BEGIN:STANDARD
TZOFFSETFROM:-0400
TZOFFSETTO:-0500
TZNAME:EST
DTSTART:20231105T060000
END:STANDARD
END:VTIMEZONE
BEGIN:VEVENT
DTSTART;TZID=America/New_York:20221207T180000
DTEND;TZID=America/New_York:20221207T190000
DTSTAMP:20260419T132150
CREATED:20221206T013608Z
LAST-MODIFIED:20221206T013608Z
UID:10000023-1670436000-1670439600@rmnetwork.org
SUMMARY:Candlelight Vigil in Honor of Club Q Shooting Victims
DESCRIPTION:First United Methodist Church and the Pittsburgh Equality Center invite you to honor the victims of the Club Q shooting. \n“We must rise against hate in the strongest possible terms\, we must stand together in solidarity and love with our LGBTQ+ family in Colorado Springs and demand an end to this epidemic of gun violence.” – Kelley Robinson\, HRC
URL:https://rmnetwork.org/event/candlelight-vigil-in-honor-of-club-q-shooting-victims/
LOCATION:Pittsburgh First UMC\, 5401 Centre Ave\, Pittsburgh\, PA\, 15232\, United States
CATEGORIES:By Reconciling Ministries
ATTACH;FMTTYPE=image/png:https://rmnetwork.org/wp-content/uploads/2022/12/Screen-Shot-2022-12-05-at-2.35.05-PM.png
END:VEVENT
END:VCALENDAR