BEGIN:VCALENDAR
VERSION:2.0
PRODID:-//Reconciling Ministries Network - ECPv6.15.20//NONSGML v1.0//EN
CALSCALE:GREGORIAN
METHOD:PUBLISH
X-ORIGINAL-URL:https://rmnetwork.org
X-WR-CALDESC:Events for Reconciling Ministries Network
REFRESH-INTERVAL;VALUE=DURATION:PT1H
X-Robots-Tag:noindex
X-PUBLISHED-TTL:PT1H
BEGIN:VTIMEZONE
TZID:America/New_York
BEGIN:DAYLIGHT
TZOFFSETFROM:-0500
TZOFFSETTO:-0400
TZNAME:EDT
DTSTART:20220313T070000
END:DAYLIGHT
BEGIN:STANDARD
TZOFFSETFROM:-0400
TZOFFSETTO:-0500
TZNAME:EST
DTSTART:20221106T060000
END:STANDARD
BEGIN:DAYLIGHT
TZOFFSETFROM:-0500
TZOFFSETTO:-0400
TZNAME:EDT
DTSTART:20230312T070000
END:DAYLIGHT
BEGIN:STANDARD
TZOFFSETFROM:-0400
TZOFFSETTO:-0500
TZNAME:EST
DTSTART:20231105T060000
END:STANDARD
BEGIN:DAYLIGHT
TZOFFSETFROM:-0500
TZOFFSETTO:-0400
TZNAME:EDT
DTSTART:20240310T070000
END:DAYLIGHT
BEGIN:STANDARD
TZOFFSETFROM:-0400
TZOFFSETTO:-0500
TZNAME:EST
DTSTART:20241103T060000
END:STANDARD
END:VTIMEZONE
BEGIN:VEVENT
DTSTART;TZID=America/New_York:20230311T100000
DTEND;TZID=America/New_York:20230311T130000
DTSTAMP:20260419T122236
CREATED:20230228T204842Z
LAST-MODIFIED:20230228T204842Z
UID:10000029-1678528800-1678539600@rmnetwork.org
SUMMARY:Next Conversations w. UMCNext Holston
DESCRIPTION:A great event coming up to talk about the beauty of The United Methodist Church and the diverse group of people seeking to stay together as they love God and neighbor. Feel free to join us! Register here and click on Get tickets.
URL:https://rmnetwork.org/event/next-conversations-w-umcnext-holston/
LOCATION:Central United Methodist Church\, 201 3rd Ave\, Knoxville\, TN 37917\, 201 3rd Ave\, Knoxville\, TN\, 37917\, United States
CATEGORIES:By Reconciling Ministries
ATTACH;FMTTYPE=image/jpeg:https://rmnetwork.org/wp-content/uploads/2023/02/Next-Conversations-UMC-NextHolston.jpg
END:VEVENT
END:VCALENDAR