BEGIN:VCALENDAR
VERSION:2.0
PRODID:-//Reconciling Ministries Network - ECPv6.15.20//NONSGML v1.0//EN
CALSCALE:GREGORIAN
METHOD:PUBLISH
X-ORIGINAL-URL:https://rmnetwork.org
X-WR-CALDESC:Events for Reconciling Ministries Network
REFRESH-INTERVAL;VALUE=DURATION:PT1H
X-Robots-Tag:noindex
X-PUBLISHED-TTL:PT1H
BEGIN:VTIMEZONE
TZID:America/New_York
BEGIN:DAYLIGHT
TZOFFSETFROM:-0500
TZOFFSETTO:-0400
TZNAME:EDT
DTSTART:20220313T070000
END:DAYLIGHT
BEGIN:STANDARD
TZOFFSETFROM:-0400
TZOFFSETTO:-0500
TZNAME:EST
DTSTART:20221106T060000
END:STANDARD
BEGIN:DAYLIGHT
TZOFFSETFROM:-0500
TZOFFSETTO:-0400
TZNAME:EDT
DTSTART:20230312T070000
END:DAYLIGHT
BEGIN:STANDARD
TZOFFSETFROM:-0400
TZOFFSETTO:-0500
TZNAME:EST
DTSTART:20231105T060000
END:STANDARD
BEGIN:DAYLIGHT
TZOFFSETFROM:-0500
TZOFFSETTO:-0400
TZNAME:EDT
DTSTART:20240310T070000
END:DAYLIGHT
BEGIN:STANDARD
TZOFFSETFROM:-0400
TZOFFSETTO:-0500
TZNAME:EST
DTSTART:20241103T060000
END:STANDARD
END:VTIMEZONE
BEGIN:VEVENT
DTSTART;TZID=America/New_York:20231119T120000
DTEND;TZID=America/New_York:20231119T160000
DTSTAMP:20260419T131727
CREATED:20231024T234736Z
LAST-MODIFIED:20231113T174742Z
UID:10000036-1700395200-1700409600@rmnetwork.org
SUMMARY:Trans Day of Remembrance: Telling Our Stories (Pittsburgh\, PA)
DESCRIPTION:Join First UMC of Pittsburgh\, PA\, for a powerful afternoon of celebrating the lives and stories of transgender and genderqueer folx in and around our community. Participate in an education and advocacy fair. Share a delicious lunch. Listen to the stand-up comedy of Bailey Pope and Asher O’Briant. Hear stories from trans folx and the allies who have walked with them through a transition. Honor and express your own story through interactive art with Suzanne Werder. \nChildren are enthusiastically welcomed to participate\, but childcare is available if needed.
URL:https://rmnetwork.org/event/trans-day-of-remembrance-telling-our-stories-pittsburgh-pa/
LOCATION:5401 Centre Avenue Pittsburgh\, PA 15232\, 5401 Centre Avenue\, Pittsburgh\, PA\, 15232\, United States
CATEGORIES:By Reconciling Ministries
ATTACH;FMTTYPE=image/jpeg:https://rmnetwork.org/wp-content/uploads/2023/10/https___cdn.evbuc_.com_images_588237929_868784022663_1_original.jpeg
END:VEVENT
END:VCALENDAR