BEGIN:VCALENDAR
VERSION:2.0
PRODID:-//Reconciling Ministries Network - ECPv6.15.20//NONSGML v1.0//EN
CALSCALE:GREGORIAN
METHOD:PUBLISH
X-WR-CALNAME:Reconciling Ministries Network
X-ORIGINAL-URL:https://rmnetwork.org
X-WR-CALDESC:Events for Reconciling Ministries Network
REFRESH-INTERVAL;VALUE=DURATION:PT1H
X-Robots-Tag:noindex
X-PUBLISHED-TTL:PT1H
BEGIN:VTIMEZONE
TZID:America/Chicago
BEGIN:DAYLIGHT
TZOFFSETFROM:-0600
TZOFFSETTO:-0500
TZNAME:CDT
DTSTART:20220313T080000
END:DAYLIGHT
BEGIN:STANDARD
TZOFFSETFROM:-0500
TZOFFSETTO:-0600
TZNAME:CST
DTSTART:20221106T070000
END:STANDARD
BEGIN:DAYLIGHT
TZOFFSETFROM:-0600
TZOFFSETTO:-0500
TZNAME:CDT
DTSTART:20230312T080000
END:DAYLIGHT
BEGIN:STANDARD
TZOFFSETFROM:-0500
TZOFFSETTO:-0600
TZNAME:CST
DTSTART:20231105T070000
END:STANDARD
BEGIN:DAYLIGHT
TZOFFSETFROM:-0600
TZOFFSETTO:-0500
TZNAME:CDT
DTSTART:20240310T080000
END:DAYLIGHT
BEGIN:STANDARD
TZOFFSETFROM:-0500
TZOFFSETTO:-0600
TZNAME:CST
DTSTART:20241103T070000
END:STANDARD
BEGIN:DAYLIGHT
TZOFFSETFROM:-0600
TZOFFSETTO:-0500
TZNAME:CDT
DTSTART:20250309T080000
END:DAYLIGHT
BEGIN:STANDARD
TZOFFSETFROM:-0500
TZOFFSETTO:-0600
TZNAME:CST
DTSTART:20251102T070000
END:STANDARD
END:VTIMEZONE
BEGIN:VEVENT
DTSTART;TZID=America/Chicago:20240504T093000
DTEND;TZID=America/Chicago:20240504T110000
DTSTAMP:20260424T055054
CREATED:20240502T120937Z
LAST-MODIFIED:20240502T120937Z
UID:10000046-1714815000-1714820400@rmnetwork.org
SUMMARY:New Dimensions! A Sending-Out Service & Baptism Renewal
DESCRIPTION:Join the Love Your Neighbor Coalition (LYNC) and RMN for a sending-out service and baptism renewal at the end of General Conference.
URL:https://rmnetwork.org/event/new-dimensions-a-sending-out-service-baptism-renewal/
LOCATION:501 N Tryon St\, Charlotte\, NC 28202\, 501 N Tryon St\, Charlotte\, NC\, 28202\, United States
ATTACH;FMTTYPE=image/jpeg:https://rmnetwork.org/wp-content/uploads/2024/05/3.jpg
END:VEVENT
BEGIN:VEVENT
DTSTART;TZID=America/Chicago:20240502T190000
DTEND;TZID=America/Chicago:20240502T203000
DTSTAMP:20260424T055054
CREATED:20240502T120730Z
LAST-MODIFIED:20240502T120730Z
UID:10000045-1714676400-1714681800@rmnetwork.org
SUMMARY:Liturgy of Queer Lament & Celebration
DESCRIPTION:Join RMN\, LYNC\, UMQCC\, and UMQDC for an evening of lament and celebration at 7pm – First UMC\, 501 N. Tryon St.
URL:https://rmnetwork.org/event/liturgy-of-queer-lament-celebration/
LOCATION:501 N Tryon St\, Charlotte\, NC 28202\, 501 N Tryon St\, Charlotte\, NC\, 28202\, United States
CATEGORIES:By RMN
ATTACH;FMTTYPE=image/jpeg:https://rmnetwork.org/wp-content/uploads/2024/05/2.jpg
END:VEVENT
BEGIN:VEVENT
DTSTART;TZID=America/Chicago:20231012T090000
DTEND;TZID=America/Chicago:20231016T170000
DTSTAMP:20260424T055054
CREATED:20230717T193406Z
LAST-MODIFIED:20230717T193406Z
UID:10000034-1697101200-1697475600@rmnetwork.org
SUMMARY:Convocation 2023: Onward to Perfection
DESCRIPTION:Join us as we kick off the celebration of RMN’s 40th anniversary and gather in person for the first time since 2020! \n\n\n\nJohn Wesley encouraged Methodists toward perfection in the lifelong pursuit of love. Love looks like affirmation in the face of persecution\, like kinship in the face of isolation\, and like courage in the face of despair. It is in that spirit that we’re gathering on October 13-15 at First United Methodist Church in Charlotte\, NC. \nPre-Convocation workshops will be offered on October 12th\, and post-Convo workshops will be offered on October 16th. \nThis year\, we kick off the celebration of 40 years as a movement and a people purposed for justice. We invite you to join us in Charlotte to reflect on our history and boldly claim the future of the Church for all God’s children. There’s work to do\, and there’s joy to share. And we want to do it all with you.
URL:https://rmnetwork.org/event/convocation-2023-onward-to-perfection/
LOCATION:501 N Tryon St\, Charlotte\, NC 28202\, 501 N Tryon St\, Charlotte\, NC\, 28202\, United States
CATEGORIES:By RMN
ATTACH;FMTTYPE=image/png:https://rmnetwork.org/wp-content/uploads/2023/06/RMN-Convo-Logo-2023-e1687299938710.png
END:VEVENT
END:VCALENDAR