BEGIN:VCALENDAR
VERSION:2.0
PRODID:-//Reconciling Ministries Network - ECPv6.15.20//NONSGML v1.0//EN
CALSCALE:GREGORIAN
METHOD:PUBLISH
X-WR-CALNAME:Reconciling Ministries Network
X-ORIGINAL-URL:https://rmnetwork.org
X-WR-CALDESC:Events for Reconciling Ministries Network
REFRESH-INTERVAL;VALUE=DURATION:PT1H
X-Robots-Tag:noindex
X-PUBLISHED-TTL:PT1H
BEGIN:VTIMEZONE
TZID:America/New_York
BEGIN:DAYLIGHT
TZOFFSETFROM:-0500
TZOFFSETTO:-0400
TZNAME:EDT
DTSTART:20220313T070000
END:DAYLIGHT
BEGIN:STANDARD
TZOFFSETFROM:-0400
TZOFFSETTO:-0500
TZNAME:EST
DTSTART:20221106T060000
END:STANDARD
BEGIN:DAYLIGHT
TZOFFSETFROM:-0500
TZOFFSETTO:-0400
TZNAME:EDT
DTSTART:20230312T070000
END:DAYLIGHT
BEGIN:STANDARD
TZOFFSETFROM:-0400
TZOFFSETTO:-0500
TZNAME:EST
DTSTART:20231105T060000
END:STANDARD
BEGIN:DAYLIGHT
TZOFFSETFROM:-0500
TZOFFSETTO:-0400
TZNAME:EDT
DTSTART:20240310T070000
END:DAYLIGHT
BEGIN:STANDARD
TZOFFSETFROM:-0400
TZOFFSETTO:-0500
TZNAME:EST
DTSTART:20241103T060000
END:STANDARD
END:VTIMEZONE
BEGIN:VEVENT
DTSTART;TZID=America/New_York:20230121T090000
DTEND;TZID=America/New_York:20230121T170000
DTSTAMP:20260419T132453
CREATED:20230106T004444Z
LAST-MODIFIED:20230106T005357Z
UID:10000025-1674291600-1674320400@rmnetwork.org
SUMMARY:Rally in Tallahassee for LGBTQ+ Justice
DESCRIPTION:Rainbow Alliance at Christ Church United Methodist in Fort Lauderdale\, FL\, invites you to join them in Tallahassee\, FL\, for a rally for LGBTQ+ justice on Saturday\, January 21\, from 9am-12pm. \n“The purpose of the Rally is to demonstrate mass visibility\, and to voice concern over legislation and executive actions that have made hundreds of thousands of folks of historically disenfranchised identities feel threatened\, unprotected\, and erased by government. We aim to remind our elected representatives that government of\, by\, and for the people must be responsive to the people. \n“Imagine what a showing from faith-based groups would demonstrate to both the LGBTQ+ community and those who would condemn us. Please join us. \n“At present\, our application to demonstrate on State Capitol grounds has been approved. We encourage groups to organize their own transportation to Tallahassee as we do not currently have any significant pool of funds – this is a grassroots initiative. Ultimately\, we hope to encourage and realize a national showing as Florida can be thought of as “ground zero” in that it is a place where ignorant\, biased & divisive legislation and policies are being passed which challenge concepts of civil society & dehumanize us.” \nTo register\, email: rtk212@gmail.com \nOrganizing partners include Equality Florida\, Pridelines\, SOJOURN\, Broward for Progress\, FL National Organization for Women\, PRISM\, FL Freedom to Read Project & AIDS Healthcare Foundation.
URL:https://rmnetwork.org/event/rally-in-tallahassee-for-lgbtq-justice/
LOCATION:400 S Monroe St\, Tallahassee\, FL 32399\, 400 S Monroe St\, Tallahassee\, FL\, 32399\, United States
CATEGORIES:By Reconciling Ministries
ATTACH;FMTTYPE=image/jpeg:https://rmnetwork.org/wp-content/uploads/2023/01/Screen-Shot-2023-01-05-at-1.42.01-PM-scaled-e1672944350904.jpg
END:VEVENT
END:VCALENDAR