BEGIN:VCALENDAR
VERSION:2.0
PRODID:-//Reconciling Ministries Network - ECPv6.15.20//NONSGML v1.0//EN
CALSCALE:GREGORIAN
METHOD:PUBLISH
X-WR-CALNAME:Reconciling Ministries Network
X-ORIGINAL-URL:https://rmnetwork.org
X-WR-CALDESC:Events for Reconciling Ministries Network
REFRESH-INTERVAL;VALUE=DURATION:PT1H
X-Robots-Tag:noindex
X-PUBLISHED-TTL:PT1H
BEGIN:VTIMEZONE
TZID:America/Chicago
BEGIN:DAYLIGHT
TZOFFSETFROM:-0600
TZOFFSETTO:-0500
TZNAME:CDT
DTSTART:20220313T080000
END:DAYLIGHT
BEGIN:STANDARD
TZOFFSETFROM:-0500
TZOFFSETTO:-0600
TZNAME:CST
DTSTART:20221106T070000
END:STANDARD
BEGIN:DAYLIGHT
TZOFFSETFROM:-0600
TZOFFSETTO:-0500
TZNAME:CDT
DTSTART:20230312T080000
END:DAYLIGHT
BEGIN:STANDARD
TZOFFSETFROM:-0500
TZOFFSETTO:-0600
TZNAME:CST
DTSTART:20231105T070000
END:STANDARD
BEGIN:DAYLIGHT
TZOFFSETFROM:-0600
TZOFFSETTO:-0500
TZNAME:CDT
DTSTART:20240310T080000
END:DAYLIGHT
BEGIN:STANDARD
TZOFFSETFROM:-0500
TZOFFSETTO:-0600
TZNAME:CST
DTSTART:20241103T070000
END:STANDARD
END:VTIMEZONE
BEGIN:VEVENT
DTSTART;TZID=America/Chicago:20230630T190000
DTEND;TZID=America/Chicago:20230701T020000
DTSTAMP:20260419T132001
CREATED:20230602T163220Z
LAST-MODIFIED:20230602T163220Z
UID:10000033-1688151600-1688176800@rmnetwork.org
SUMMARY:Dance the Night Away @ 37 Main (Fundraiser for RMN)
DESCRIPTION:“Come Join The Ecstatic Fun As We Close Out The National Month Of PRIDE By Dancing\nThe Night Away At 37 ATLANTA’S PRIDE\nGlow Party! All LGBTQIA+ Individuals\, Advocates\, Community\,\nAnd Those Who Just Want To\nDance And Have Fun Are Welcome!\nThe Rhythm Shaking Night\nWill Be Hosted By Atlanta’s Very Own DJ Big Papa Huge Time And There Will Be A Live Performance By Two Of Atlanta’s Recording Artists Shane Mathis And Amy Little.\nWho Will Debut Live Their New Cover Single Of “This Is Me”!\nAll Proceeds That Evening Will Go To Support Reconciling Ministries Network.”
URL:https://rmnetwork.org/event/dance-the-night-away-37-main-fundraiser-for-rmn/
LOCATION:106 North Avondale Road\, Avondale Estates\, GA 30002\, 106 North Avondale Road\, Avondale Estates\, GA\, 30002\, United States
CATEGORIES:By Reconciling Ministries
ATTACH;FMTTYPE=image/jpeg:https://rmnetwork.org/wp-content/uploads/2023/06/https___cdn.evbuc_.com_images_523685879_458441738678_1_original.jpg
END:VEVENT
END:VCALENDAR