BEGIN:VCALENDAR
VERSION:2.0
PRODID:-//Reconciling Ministries Network - ECPv6.15.20//NONSGML v1.0//EN
CALSCALE:GREGORIAN
METHOD:PUBLISH
X-ORIGINAL-URL:https://rmnetwork.org
X-WR-CALDESC:Events for Reconciling Ministries Network
REFRESH-INTERVAL;VALUE=DURATION:PT1H
X-Robots-Tag:noindex
X-PUBLISHED-TTL:PT1H
BEGIN:VTIMEZONE
TZID:America/Chicago
BEGIN:DAYLIGHT
TZOFFSETFROM:-0600
TZOFFSETTO:-0500
TZNAME:CDT
DTSTART:20220313T080000
END:DAYLIGHT
BEGIN:STANDARD
TZOFFSETFROM:-0500
TZOFFSETTO:-0600
TZNAME:CST
DTSTART:20221106T070000
END:STANDARD
BEGIN:DAYLIGHT
TZOFFSETFROM:-0600
TZOFFSETTO:-0500
TZNAME:CDT
DTSTART:20230312T080000
END:DAYLIGHT
BEGIN:STANDARD
TZOFFSETFROM:-0500
TZOFFSETTO:-0600
TZNAME:CST
DTSTART:20231105T070000
END:STANDARD
BEGIN:DAYLIGHT
TZOFFSETFROM:-0600
TZOFFSETTO:-0500
TZNAME:CDT
DTSTART:20240310T080000
END:DAYLIGHT
BEGIN:STANDARD
TZOFFSETFROM:-0500
TZOFFSETTO:-0600
TZNAME:CST
DTSTART:20241103T070000
END:STANDARD
END:VTIMEZONE
BEGIN:VEVENT
DTSTART;TZID=America/Chicago:20230903T100000
DTEND;TZID=America/Chicago:20230903T120000
DTSTAMP:20260419T120214
CREATED:20230817T164243Z
LAST-MODIFIED:20230817T164243Z
UID:10000035-1693735200-1693742400@rmnetwork.org
SUMMARY:Hennepin Ave. UMC: Preaching by Rev. Roger Lynn\, Officiant of the First U.S. Gay Marriage
DESCRIPTION:Join in worship on September 3\, at 10am at Hennepin Ave. UMC to celebrate the 52nd anniversary of what was later recognized as the first gay marriage in the United States! This marriage was not only in our home state of Minnesota\, but the ceremony was performed by Hennepin Ave.’s own Rev. Roger Lynn; now their Minister of Pastoral Care!\n\n\n\nRev. Roger will be preaching on the anniversary of the first marriage on Sept 3rd. It’s an incredible story that we are so blessed to be a part of! You won’t want to miss it!\n\n“Honoring Rev. Roger Lynn” Short Film by Logan Chelmo
URL:https://rmnetwork.org/event/hennepin-ave-umc-preaching-by-rev-roger-lynn-officiant-of-the-first-u-s-gay-marriage/
LOCATION:511 Groveland Ave\, Minneapolis\, MN 55403\, 511 Groveland Ave\, Minneapolis\, MN\, 55403\, United States
CATEGORIES:By Reconciling Ministries
ATTACH;FMTTYPE=image/jpeg:https://rmnetwork.org/wp-content/uploads/2023/08/Screen-Shot-2023-08-17-at-12.35.48-PM-scaled.jpg
END:VEVENT
END:VCALENDAR