BEGIN:VCALENDAR
VERSION:2.0
PRODID:-//Reconciling Ministries Network - ECPv6.15.20//NONSGML v1.0//EN
CALSCALE:GREGORIAN
METHOD:PUBLISH
X-ORIGINAL-URL:https://rmnetwork.org
X-WR-CALDESC:Events for Reconciling Ministries Network
REFRESH-INTERVAL;VALUE=DURATION:PT1H
X-Robots-Tag:noindex
X-PUBLISHED-TTL:PT1H
BEGIN:VTIMEZONE
TZID:America/New_York
BEGIN:DAYLIGHT
TZOFFSETFROM:-0500
TZOFFSETTO:-0400
TZNAME:EDT
DTSTART:20210314T070000
END:DAYLIGHT
BEGIN:STANDARD
TZOFFSETFROM:-0400
TZOFFSETTO:-0500
TZNAME:EST
DTSTART:20211107T060000
END:STANDARD
BEGIN:DAYLIGHT
TZOFFSETFROM:-0500
TZOFFSETTO:-0400
TZNAME:EDT
DTSTART:20220313T070000
END:DAYLIGHT
BEGIN:STANDARD
TZOFFSETFROM:-0400
TZOFFSETTO:-0500
TZNAME:EST
DTSTART:20221106T060000
END:STANDARD
BEGIN:DAYLIGHT
TZOFFSETFROM:-0500
TZOFFSETTO:-0400
TZNAME:EDT
DTSTART:20230312T070000
END:DAYLIGHT
BEGIN:STANDARD
TZOFFSETFROM:-0400
TZOFFSETTO:-0500
TZNAME:EST
DTSTART:20231105T060000
END:STANDARD
BEGIN:DAYLIGHT
TZOFFSETFROM:-0500
TZOFFSETTO:-0400
TZNAME:EDT
DTSTART:20240310T070000
END:DAYLIGHT
BEGIN:STANDARD
TZOFFSETFROM:-0400
TZOFFSETTO:-0500
TZNAME:EST
DTSTART:20241103T060000
END:STANDARD
END:VTIMEZONE
BEGIN:VTIMEZONE
TZID:UTC
BEGIN:STANDARD
TZOFFSETFROM:+0000
TZOFFSETTO:+0000
TZNAME:UTC
DTSTART:20210101T000000
END:STANDARD
END:VTIMEZONE
BEGIN:VTIMEZONE
TZID:America/Chicago
BEGIN:DAYLIGHT
TZOFFSETFROM:-0600
TZOFFSETTO:-0500
TZNAME:CDT
DTSTART:20210314T080000
END:DAYLIGHT
BEGIN:STANDARD
TZOFFSETFROM:-0500
TZOFFSETTO:-0600
TZNAME:CST
DTSTART:20211107T070000
END:STANDARD
BEGIN:DAYLIGHT
TZOFFSETFROM:-0600
TZOFFSETTO:-0500
TZNAME:CDT
DTSTART:20220313T080000
END:DAYLIGHT
BEGIN:STANDARD
TZOFFSETFROM:-0500
TZOFFSETTO:-0600
TZNAME:CST
DTSTART:20221106T070000
END:STANDARD
BEGIN:DAYLIGHT
TZOFFSETFROM:-0600
TZOFFSETTO:-0500
TZNAME:CDT
DTSTART:20230312T080000
END:DAYLIGHT
BEGIN:STANDARD
TZOFFSETFROM:-0500
TZOFFSETTO:-0600
TZNAME:CST
DTSTART:20231105T070000
END:STANDARD
END:VTIMEZONE
BEGIN:VEVENT
DTSTART;TZID=America/New_York:20230209T190000
DTEND;TZID=America/New_York:20230209T200000
DTSTAMP:20260419T073801
CREATED:20230210T000120Z
LAST-MODIFIED:20230210T000120Z
UID:10000028-1675969200-1675972800@rmnetwork.org
SUMMARY:Night with an Author feat. Suzanne DeWitt Hall
DESCRIPTION:RMN is kicking off National Reading Month with a Night With an Author: featuring Suzanne DeWitt Hall. Admission is free\, though all donations will support RMN’s work. \n\n\n\n\nSuzanne DeWitt Hall (she/her/hers) is the author of Where True Love Is devotionals\, the Living in Hope series which supports the family and friends of transgender people\, The Path of Unlearning faith deconstruction books\, and the Rumplepimple adventures. Her debut novel\, The Language of Bodies (Woodhall Press) launched in October 2022. She is mildly obsessed with vintage cookbooks and the intersection of sexuality and theology. Suzanne lives with her beloved transgender husband\, two terriers\, and a cat named Chicken. Her work is designed to shine the light of love into hearts darkened by discrimination and fear. \n\n\n\n\n\n\nRegister here.
URL:https://rmnetwork.org/event/night-with-an-author-feat-suzanne-dewitt-hall/
CATEGORIES:By RMN
ATTACH;FMTTYPE=image/jpeg:https://rmnetwork.org/wp-content/uploads/2023/02/Suzanne-dewitt-hall.jpg
END:VEVENT
BEGIN:VEVENT
DTSTART;TZID=America/New_York:20230207T190000
DTEND;TZID=America/New_York:20230207T190000
DTSTAMP:20260419T073801
CREATED:20230202T222503Z
LAST-MODIFIED:20230202T222503Z
UID:10000027-1675796400-1675796400@rmnetwork.org
SUMMARY:Daring Adventures: Helping Gender-Diverse Kids & Their Families Thrive
DESCRIPTION:Join our Virtual Porch on Tuesday\, February 7th\, as we meet with mother\, author\, and advocate Rachel Cornwell. Rachel will be sharing about her book Daring Adventures: Helping Gender-Diverse Kids and Their Families Thrive. \nRegister here.
URL:https://rmnetwork.org/event/daring-adventures-helping-gender-diverse-kids-their-families-thrive/
CATEGORIES:By RMN
ATTACH;FMTTYPE=image/jpeg:https://rmnetwork.org/wp-content/uploads/2023/02/VP-w.-Rachel-Cornwell-1.jpg
END:VEVENT
BEGIN:VEVENT
DTSTART;TZID=America/New_York:20221213T120000
DTEND;TZID=America/New_York:20221213T130000
DTSTAMP:20260419T073801
CREATED:20221206T223350Z
LAST-MODIFIED:20221206T223350Z
UID:10000024-1670932800-1670936400@rmnetwork.org
SUMMARY:Pray Away Film Reflection w. Film Team Member Shae Washington
DESCRIPTION:Pray Away presents the dangerous impact of conversion therapy on LGBTQ+ people. Join Parents Reconciling Network in conversation with film team member Shae Washington about the film and how it calls us into affirming ministry and advocacy.
URL:https://rmnetwork.org/event/pray-away-film-reflection-w-film-team-member-shae-washington/
CATEGORIES:By RMN
ATTACH;FMTTYPE=image/jpeg:https://rmnetwork.org/wp-content/uploads/2022/12/Parents-Reconciling-Network-Virtual-Porch-1.jpg
END:VEVENT
BEGIN:VEVENT
DTSTART;TZID=UTC:20221129T200000
DTEND;TZID=UTC:20221129T210000
DTSTAMP:20260419T073801
CREATED:20221111T010921Z
LAST-MODIFIED:20221111T010921Z
UID:10000013-1669752000-1669755600@rmnetwork.org
SUMMARY:Broken Horses: RMN Book Club
DESCRIPTION:RMN’s first ever Book Club with Brandi Carlile’s book Broken Horses on November 29 at 8pm ET | 5pm PT. Come join the discussion as we look at Brandi’s story and reflect on our own. \nSupport local bookstores and RMN by purchasing at our Bookshop Store.
URL:https://rmnetwork.org/event/broken-horses-rmn-book-club/
CATEGORIES:By RMN
ATTACH;FMTTYPE=image/jpeg:https://rmnetwork.org/wp-content/uploads/2022/11/Announcing-RMN-Book-Club.jpg
END:VEVENT
BEGIN:VEVENT
DTSTART;TZID=America/New_York:20221117T200000
DTEND;TZID=America/New_York:20221117T210000
DTSTAMP:20260419T073801
CREATED:20221111T010459Z
LAST-MODIFIED:20221111T010459Z
UID:10000014-1668715200-1668718800@rmnetwork.org
SUMMARY:Organizing Team Debriefs Jurisdictional Conferences
DESCRIPTION:Curious about what happened at Jurisdictional Conferences or what RMN’s Organizing Team has been up to through this season to impact LGBTQ+ justice in the Church? Join the Organizing Team to debrief and to look ahead at what’s next. \nThis Virtual Porch will be on Thursday\, November 17 at 8pm ET | 5pm PT.
URL:https://rmnetwork.org/event/organizing-team-debriefs-jurisdictional-conferences/
CATEGORIES:By RMN
ATTACH;FMTTYPE=image/jpeg:https://rmnetwork.org/wp-content/uploads/2022/11/1f5077a5-f0c2-5ead-44a2-14c6f9cf166e.jpg
END:VEVENT
BEGIN:VEVENT
DTSTART;TZID=America/New_York:20221115T120000
DTEND;TZID=America/New_York:20221115T130000
DTSTAMP:20260419T073801
CREATED:20221111T010151Z
LAST-MODIFIED:20221111T010619Z
UID:10000015-1668513600-1668517200@rmnetwork.org
SUMMARY:Parents Reconciling Network Virtual Porch: Chosen Family
DESCRIPTION:Every month\, Parents Reconciling Network hosts a Virtual Porch for parents and allies to address ways to be more supportive and better equipped to advocate for LGBTQ+ loved ones. \nJoin us on Tuesday\, November 15 at 12 pm EST | 9 am PT to discuss chosen family and how you and your community can extend love to persons for whom a safe and loving place\, especially during the holidays\, may not be their familial home.
URL:https://rmnetwork.org/event/parents-reconciling-network-virtual-porch-chosen-family/
CATEGORIES:By RMN
ATTACH;FMTTYPE=image/jpeg:https://rmnetwork.org/wp-content/uploads/2022/11/403e7bf4-3081-9493-d3c5-0969447c425d.jpg
END:VEVENT
BEGIN:VEVENT
DTSTART;TZID=America/New_York:20221029T100000
DTEND;TZID=America/New_York:20221029T160000
DTSTAMP:20260419T073801
CREATED:20220923T235931Z
LAST-MODIFIED:20220923T235931Z
UID:10000017-1667037600-1667059200@rmnetwork.org
SUMMARY:Building an Inclusive Community Workshop (Dayton\, OH)
DESCRIPTION:Learn how your congregation or ministry group can become an LGBTQ+ affirming Reconciling community. Our workshop facilitator is the Rev. Dr. Israel I. Alvaran\, an openly gay UMC clergy from the Philippines Conference serving as Organizer of Reconciling Ministries Network.\n\nRegister here: https://tinyurl.com/bicdayton
URL:https://rmnetwork.org/event/building-an-inclusive-community-workshop-dayton-oh/
LOCATION:Grace UMC – Dayton\, OH\, 1001 Harvard Blvd\, Dayton\, OH\, 45406
CATEGORIES:By RMN
ATTACH;FMTTYPE=image/jpeg:https://rmnetwork.org/wp-content/uploads/2022/09/Screen-Shot-2022-09-23-at-2.28.37-PM.jpg
END:VEVENT
BEGIN:VEVENT
DTSTART;TZID=America/New_York:20221023T100000
DTEND;TZID=America/New_York:20221023T160000
DTSTAMP:20260419T073801
CREATED:20220923T234251Z
LAST-MODIFIED:20220924T000011Z
UID:10000018-1666519200-1666540800@rmnetwork.org
SUMMARY:Building an Inclusive Community Workshop (Maplewood\, MN)
DESCRIPTION:Learn how your congregation or ministry group can become an LGBTQ+ affirming Reconciling community. Our workshop facilitator is the Rev. Dr. Israel I. Alvaran\, an openly gay UMC clergy from the Philippines Conference serving as Organizer of Reconciling Ministries Network.\nRegister here: https://tinyurl.com/mnbic2022
URL:https://rmnetwork.org/event/building-an-inclusive-community-workshop/
LOCATION:Christ UMC – Maplewood\, MN\, 2500 Hudson Place\, Maplewood\, MN\, 55119\, United States
CATEGORIES:By RMN
ATTACH;FMTTYPE=image/jpeg:https://rmnetwork.org/wp-content/uploads/2022/09/Screen-Shot-2022-09-23-at-2.28.37-PM.jpg
END:VEVENT
BEGIN:VEVENT
DTSTART;TZID=America/Chicago:20220921T200000
DTEND;TZID=America/Chicago:20220921T200000
DTSTAMP:20260419T073801
CREATED:20220901T234436Z
LAST-MODIFIED:20220901T234453Z
UID:10000020-1663790400-1663790400@rmnetwork.org
SUMMARY:After the Kenya RMN Gathering – What's Next?
DESCRIPTION:Come to learn about and discuss LGBTQ+ justice in Kenya\, the future of the Reconciling movement\, and more. Register at the link below for the Virtual Porch on Wednesday\, September 21st at 8pm ET | 5pm PT.
URL:https://rmnetwork.org/event/after-the-kenya-rmn-gathering-whats-next/
CATEGORIES:By RMN
ATTACH;FMTTYPE=image/jpeg:https://rmnetwork.org/wp-content/uploads/2022/09/Kenya-Banner-2160-×-1080-px-1.jpg
END:VEVENT
BEGIN:VEVENT
DTSTART;TZID=America/Chicago:20220913T120000
DTEND;TZID=America/Chicago:20220913T170000
DTSTAMP:20260419T073801
CREATED:20220901T234131Z
LAST-MODIFIED:20220901T234131Z
UID:10000021-1663070400-1663088400@rmnetwork.org
SUMMARY:RMN & PRN Present: Advocacy and Allyship
DESCRIPTION:At this Virtual Porch Session with Parents Reconciling Network\, we will be joined by Mama Bears co-founder Liz Dyer who will talk about how we can be better-engaged advocates and allies in our churches and communities for our LGBTQ+ loved ones – especially our kids. \nRegister at the link below for this Virtual Porch on Tuesday\, September 13 at 12pm ET | 9am PT.
URL:https://rmnetwork.org/event/rmn-prn-present-advocacy-and-allyship/
CATEGORIES:By RMN
ATTACH;FMTTYPE=image/jpeg:https://rmnetwork.org/wp-content/uploads/2022/09/Virtual-Porch-PRN-September-13-2022.jpg
END:VEVENT
END:VCALENDAR